BEGIN:VCALENDAR
VERSION:2.0
PRODID:-//hacksw/handcal//NONSGML v1.0//EN
CALSCALE:GREGORIAN
BEGIN:VEVENT
LOCATION:Hitchcock Nature Center\, 27792 Ski Hill Loop\, Honey Creek\, Iowa 51542
DESCRIPTION:Join us for our annual HawkWatch 5K trail walk/run in the Loess Hills! Proceeds support local conservation efforts.
DTSTART:20231014T090000
DTEND:20231014T110000
SUMMARY:18th Annual HawkWatch 5K Walk/Run
URL;VALUE=URI:https://www.pottconservation.com/calendar/18th_annual_hawkwatch_5k_walkrun/2023-10-14/
DTSTAMP:20260423T220310
UID:69eadd6ea3970
END:VEVENT
END:VCALENDAR