BEGIN:VCALENDAR
VERSION:2.0
PRODID:-//hacksw/handcal//NONSGML v1.0//EN
CALSCALE:GREGORIAN
BEGIN:VEVENT
LOCATION:Hitchcock Nature Center - Loess Hills Lodge\, 27792 Ski Hill Loop\, Honey Creek\, IA 51542
DESCRIPTION:Learn about the fascinating world of raptors and help celebrate our Hitchcock HawkWatch group&#039\;s 30th anniversary with us on Sunday\, October 17th.
DTSTART:20211017T130000
DTEND:20211017T160000
SUMMARY:30 Years of HawkWatch Celebration
URL;VALUE=URI:https://www.pottconservation.com/calendar/30_years_of_hawkwatch_celebration/2021-10-17/
DTSTAMP:20260421T071834
UID:69e76b1a66d67
END:VEVENT
END:VCALENDAR