BEGIN:VCALENDAR
VERSION:2.0
PRODID:-//hacksw/handcal//NONSGML v1.0//EN
CALSCALE:GREGORIAN
BEGIN:VEVENT
LOCATION:Hitchcock Nature Center\, 27792 Ski Hill Loop\, Honey Creek\, Iowa 51542
DESCRIPTION:Join naturalist and student of folklore Dustin Clayton for a hike through the Halloween forest.
DTSTART:20241026T140000
DTEND:20241026T163000
SUMMARY:5th Annual Halloween Witchy Woods Walk with Dustin Clayton
URL;VALUE=URI:https://www.pottconservation.com/calendar/45th_annual_halloween_witchy_woods_walk_with_dustin_clayton/2024-10-26/
DTSTAMP:20260425T111535
UID:69ece8a74601c
END:VEVENT
END:VCALENDAR