BEGIN:VCALENDAR
VERSION:2.0
PRODID:-//hacksw/handcal//NONSGML v1.0//EN
CALSCALE:GREGORIAN
BEGIN:VEVENT
LOCATION:\, \, 
DESCRIPTION:Explore nature &amp\; philosophy during this immersive program perfect for anyone who loves the great outdoors. 
DTSTART:20210807T090000
DTEND:20210807T120000
SUMMARY:A Chorus of Insects
URL;VALUE=URI:https://www.pottconservation.com/calendar/a_chorus_of_insects/2021-08-07/
DTSTAMP:20260421T035631
UID:69e73bbf7a447
END:VEVENT
END:VCALENDAR