BEGIN:VCALENDAR
VERSION:2.0
PRODID:-//hacksw/handcal//NONSGML v1.0//EN
CALSCALE:GREGORIAN
BEGIN:VEVENT
LOCATION:\, \, 
DESCRIPTION:Explore nature and philosophy during this free\, introductory program.
DTSTART:20210227T090000
DTEND:20210227T110000
SUMMARY:A Good Oak
URL;VALUE=URI:https://www.pottconservation.com/calendar/a_good_oak/2021-02-27/
DTSTAMP:20260420T184117
UID:69e6b99de0f1e
END:VEVENT
END:VCALENDAR