BEGIN:VCALENDAR
VERSION:2.0
PRODID:-//hacksw/handcal//NONSGML v1.0//EN
CALSCALE:GREGORIAN
BEGIN:VEVENT
LOCATION:Hitchcock Nature Center\, 27792 Ski Hill Loop\, Honey Creek\, Iowa 51542
DESCRIPTION:Explore nature &amp\; philosophy during this immersive program perfect for anyone who loves the great outdoors.
DTSTART:20220723T090000
DTEND:20220723T120000
SUMMARY:A Land Ethic Workshop: Freshwater Ecosystems
URL;VALUE=URI:https://www.pottconservation.com/calendar/a_land_ethic_workshop_freshwater_ecosystems/2022-07-23/
DTSTAMP:20260425T081537
UID:69ecbe790f147
END:VEVENT
END:VCALENDAR