BEGIN:VCALENDAR
VERSION:2.0
PRODID:-//hacksw/handcal//NONSGML v1.0//EN
CALSCALE:GREGORIAN
BEGIN:VEVENT
LOCATION:Hitchcock Nature Center\, 27792 Ski Hill Loop\, Honey Creek\, Iowa 51542
DESCRIPTION:Explore nature &amp\; philosophy during this immersive program perfect for anyone who loves the great outdoors.
DTSTART:20221112T090000
DTEND:20221112T120000
SUMMARY:A Land Ethic Workshop: Nature&#039\;s Recyclers
URL;VALUE=URI:https://www.pottconservation.com/calendar/a_land_ethic_workshop_natures_recyclers/2022-11-12/
DTSTAMP:20260425T072134
UID:69ecb1ce50c7d
END:VEVENT
END:VCALENDAR