BEGIN:VCALENDAR
VERSION:2.0
PRODID:-//hacksw/handcal//NONSGML v1.0//EN
CALSCALE:GREGORIAN
BEGIN:VEVENT
LOCATION:Hitchcock Nature Center\, 27792 Ski Hill Loop\, Honey Creek\, Iowa 51542
DESCRIPTION:Explore nature &amp\; philosophy during this immersive program perfect for anyone who loves the great outdoors.
DTSTART:20220910T090000
DTEND:20220910T120000
SUMMARY:A Land Ethic Workshop: Ornithology 101
URL;VALUE=URI:https://www.pottconservation.com/calendar/a_land_ethic_workshop_ornithology_101/2022-09-10/
DTSTAMP:20260421T001130
UID:69e707025676b
END:VEVENT
END:VCALENDAR