BEGIN:VCALENDAR
VERSION:2.0
PRODID:-//hacksw/handcal//NONSGML v1.0//EN
CALSCALE:GREGORIAN
BEGIN:VEVENT
LOCATION:Hitchcock Nature Center\, 27792 Ski Hill Loop\, Honey Creek\, Iowa 51542
DESCRIPTION:Explore nature &amp\; philosophy during this immersive program perfect for anyone who loves the great outdoors.
DTSTART:20221015T090000
DTEND:20221015T120000
SUMMARY:A Land Ethic Workshop: The Science of Fall
URL;VALUE=URI:https://www.pottconservation.com/calendar/a_land_ethic_workshop_the_science_of_fall/2022-10-15/
DTSTAMP:20260425T053903
UID:69ec99c70d827
END:VEVENT
END:VCALENDAR