BEGIN:VCALENDAR
VERSION:2.0
PRODID:-//hacksw/handcal//NONSGML v1.0//EN
CALSCALE:GREGORIAN
BEGIN:VEVENT
LOCATION:Hitchcock Nature Center\, 27792 Ski Hill Loop\, Honey Creek\, Iowa 51542
DESCRIPTION:Explore nature &amp\; philosophy during this immersive program perfect for anyone who loves the great outdoors.
DTSTART:20221203T090000
DTEND:20221203T120000
SUMMARY:A Land Ethic Workshop: Winter Survival Secrets
URL;VALUE=URI:https://www.pottconservation.com/calendar/a_land_ethic_workshop_winter_survival_secrets/2022-12-03/
DTSTAMP:20260425T090440
UID:69ecc9f801f66
END:VEVENT
END:VCALENDAR