BEGIN:VCALENDAR
VERSION:2.0
PRODID:-//hacksw/handcal//NONSGML v1.0//EN
CALSCALE:GREGORIAN
BEGIN:VEVENT
LOCATION:Botna Bend Park\, 42926 Mahogany Road\, Hancock\, Iowa 51536
DESCRIPTION:Join us at Botna Bend Park for some fall fun during our annual All Hallows Eve Festival!
DTSTART:20221022T170000
DTEND:20221022T193000
SUMMARY:All Hallows Eve Festival
URL;VALUE=URI:https://www.pottconservation.com/calendar/all_hallows_eve_festival/2022-10-22/
DTSTAMP:20260425T054709
UID:69ec9bad70766
END:VEVENT
END:VCALENDAR