BEGIN:VCALENDAR
VERSION:2.0
PRODID:-//hacksw/handcal//NONSGML v1.0//EN
CALSCALE:GREGORIAN
BEGIN:VEVENT
LOCATION:Botna Bend Park\, 42926 Mahogany Road\, Hancock\, Iowa 51536
DESCRIPTION:Join us at Botna Bend Park for some fall fun during our annual All Hallows Eve Festival!
DTSTART:20241005T160000
DTEND:20241005T210000
SUMMARY:All Hallows Eve Festival
URL;VALUE=URI:https://www.pottconservation.com/calendar/all_hallows_eve_festival/2024-10-05/
DTSTAMP:20260419T075840
UID:69e4d180ad647
END:VEVENT
END:VCALENDAR