BEGIN:VCALENDAR
VERSION:2.0
PRODID:-//hacksw/handcal//NONSGML v1.0//EN
CALSCALE:GREGORIAN
BEGIN:VEVENT
LOCATION:Hitchcock Nature Center\, 27792 Ski Hill Loop\, Honey Creek\, Iowa 51542
DESCRIPTION:Join naturalist and student of folklore Dustin Clayton for this free winter solstice night hike along Fox Run Ridge trail.
DTSTART:20221221T183000
DTEND:20221221T200000
SUMMARY:Annual Winter Solstice Night Hike
URL;VALUE=URI:https://www.pottconservation.com/calendar/annual_winter_solstice_night_hike/2022-12-21/
DTSTAMP:20260425T090414
UID:69ecc9de3872e
END:VEVENT
END:VCALENDAR