BEGIN:VCALENDAR
VERSION:2.0
PRODID:-//hacksw/handcal//NONSGML v1.0//EN
CALSCALE:GREGORIAN
BEGIN:VEVENT
LOCATION:Hitchcock Nature Center\, 27792 Ski Hill Loop\, Honey Creek\, Iowa 51542
DESCRIPTION:Join naturalist and student of folklore Dustin Clayton for this free winter solstice night hike along Fox Run Ridge trail.
DTSTART:20251220T170000
DTEND:20251220T183000
SUMMARY:Annual Winter Solstice Night Hike | With Dustin Clayton
URL;VALUE=URI:https://www.pottconservation.com/calendar/annual_winter_solstice_night_hike_with_dustin_clayton/2025-12-20/
DTSTAMP:20260425T211120
UID:69ed7448c7c11
END:VEVENT
END:VCALENDAR