BEGIN:VCALENDAR
VERSION:2.0
PRODID:-//hacksw/handcal//NONSGML v1.0//EN
CALSCALE:GREGORIAN
BEGIN:VEVENT
LOCATION:Hitchcock Nature Center\, 27792 Ski Hill Loop\, Honey Creek\, Iowa 51542
DESCRIPTION:Come explore the past with former Nebraska State Archaeologist\, Rob Bozell!
DTSTART:20251108T130000
DTEND:20251108T150000
SUMMARY:Archaeology Roadshow
URL;VALUE=URI:https://www.pottconservation.com/calendar/archaeology_show_tell/2025-11-08/
DTSTAMP:20260425T191513
UID:69ed59119ffba
END:VEVENT
END:VCALENDAR