BEGIN:VCALENDAR
VERSION:2.0
PRODID:-//hacksw/handcal//NONSGML v1.0//EN
CALSCALE:GREGORIAN
BEGIN:VEVENT
LOCATION:Arrowhead Park\, 29357 310th Street\, Neola\, Iowa 51559
DESCRIPTION:Grab a tasty chili dinner at beautiful Arrowhead Park. 
DTSTART:20211009T160000
DTEND:20211009T200000
SUMMARY:Arrowhead Park Chili Fest
URL;VALUE=URI:https://www.pottconservation.com/calendar/arrowhead_park_chili_fest/2021-10-09/
DTSTAMP:20260421T070918
UID:69e768eed8651
END:VEVENT
END:VCALENDAR