BEGIN:VCALENDAR
VERSION:2.0
PRODID:-//hacksw/handcal//NONSGML v1.0//EN
CALSCALE:GREGORIAN
BEGIN:VEVENT
LOCATION:Arrowhead Park\, 29357 310th Street\, Neola\, Iowa 51559
DESCRIPTION:Grab a tasty chili dinner at beautiful Arrowhead Park. 
DTSTART:20221008T160000
DTEND:20221008T200000
SUMMARY:Arrowhead Park Chili Fest
URL;VALUE=URI:https://www.pottconservation.com/calendar/arrowhead_park_chili_fest/2022-10-08/
DTSTAMP:20260425T053929
UID:69ec99e1e4bee
END:VEVENT
END:VCALENDAR