BEGIN:VCALENDAR
VERSION:2.0
PRODID:-//hacksw/handcal//NONSGML v1.0//EN
CALSCALE:GREGORIAN
BEGIN:VEVENT
LOCATION:Arrowhead Park\, 29357 310th Street\, Neola\, Iowa 51559
DESCRIPTION:Grab a tasty chili dinner and enjoy pumpkin painting\, hayrack rides\, and trick-or-treating while soaking up the fall colors at Arrowhead Park.
DTSTART:20251011T160000
DTEND:20251011T200000
SUMMARY:Arrowhead Park Chili Fest
URL;VALUE=URI:https://www.pottconservation.com/calendar/arrowhead_park_chili_fest/2025-10-11/
DTSTAMP:20260425T175932
UID:69ed47549703d
END:VEVENT
END:VCALENDAR