BEGIN:VCALENDAR
VERSION:2.0
PRODID:-//hacksw/handcal//NONSGML v1.0//EN
CALSCALE:GREGORIAN
BEGIN:VEVENT
LOCATION:Arrowhead Park\, 29357 310th Street\, Neola\, Iowa 51559
DESCRIPTION:5k\, 10k\, and 4 Hour Enduro distance options on a 5k marked course through the trails and grounds of Arrowhead Park.
DTSTART:20220423T080000
DTEND:20220423T120000
SUMMARY:Arrowhead Park Trail Run
URL;VALUE=URI:https://www.pottconservation.com/calendar/arrowhead_park_trail_run/2022-04-23/
DTSTAMP:20260423T064510
UID:69ea0646c57c3
END:VEVENT
END:VCALENDAR