BEGIN:VCALENDAR
VERSION:2.0
PRODID:-//hacksw/handcal//NONSGML v1.0//EN
CALSCALE:GREGORIAN
BEGIN:VEVENT
LOCATION:Arrowhead Park\, 29357 310th Street\, Neola\, Iowa 51559
DESCRIPTION:Get moving this spring with a traditional 5k run\, 10k\, or complete as many laps as you can in a 4-hour Enduro! Proceeds support the Pottawattamie County Trails Association.
DTSTART:20240420T080000
DTEND:20240420T120000
SUMMARY:Arrowhead Park Trail Run
URL;VALUE=URI:https://www.pottconservation.com/calendar/arrowhead_park_trail_run/2024-04-20/
DTSTAMP:20260424T143955
UID:69ebc70bf2523
END:VEVENT
END:VCALENDAR