BEGIN:VCALENDAR
VERSION:2.0
PRODID:-//hacksw/handcal//NONSGML v1.0//EN
CALSCALE:GREGORIAN
BEGIN:VEVENT
LOCATION:Arrowhead Park\, 29357 310th Street\, Neola\, Iowa 51559
DESCRIPTION:Enjoy Arrowhead Park during Iowa&#039\;s free fishing weekend &amp\; see what&#039\;s biting. 
DTSTART:20220604T100000
DTEND:20220604T120000
SUMMARY:Kids&#039\; Fishing Derby at Arrowhead Park
URL;VALUE=URI:https://www.pottconservation.com/calendar/arrowhead_parks_kids_fishing_derby/2022-06-04/
DTSTAMP:20260425T063358
UID:69eca6a688d89
END:VEVENT
END:VCALENDAR