BEGIN:VCALENDAR
VERSION:2.0
PRODID:-//hacksw/handcal//NONSGML v1.0//EN
CALSCALE:GREGORIAN
BEGIN:VEVENT
LOCATION:Hitchcock Nature Center\, 27792 Ski Hill Loop\, Honey Creek\, Iowa 51542
DESCRIPTION:Wind your way through the woods and prairie to a pond nestled in the middle of the Loess Hills during this guided hike.
DTSTART:20220816T190000
DTEND:20220816T203000
SUMMARY:August Hitch Hike | Hohneke Pond
URL;VALUE=URI:https://www.pottconservation.com/calendar/august_hitch_hike/2022-08-16/
DTSTAMP:20260425T095417
UID:69ecd5999671e
END:VEVENT
END:VCALENDAR