BEGIN:VCALENDAR
VERSION:2.0
PRODID:-//hacksw/handcal//NONSGML v1.0//EN
CALSCALE:GREGORIAN
BEGIN:VEVENT
LOCATION:Hitchcock Nature Center\, 27792 Ski Hill Loop\, Honey Creek\, Iowa 51542
DESCRIPTION:Join naturalist and student of folklore Dustin Clayton for an end-of-autumn hike that will encourage you to contemplate the shifting season.
DTSTART:20221112T130000
DTEND:20221112T143000
SUMMARY:Autumn&#039\;s End Hike
URL;VALUE=URI:https://www.pottconservation.com/calendar/autumns_end_hike/2022-11-12/
DTSTAMP:20260425T070621
UID:69ecae3deb7e1
END:VEVENT
END:VCALENDAR