BEGIN:VCALENDAR
VERSION:2.0
PRODID:-//hacksw/handcal//NONSGML v1.0//EN
CALSCALE:GREGORIAN
BEGIN:VEVENT
LOCATION:Hitchcock Nature Center\, 27792 Ski Hill Loop\, Honey Creek\, Iowa 51542
DESCRIPTION:Meditative and imaginal exercises to deepen your relationship with the living land.
DTSTART:20211113T153000
DTEND:20211113T173000
SUMMARY:Awake In the Woods: Loess Hills Myth Craft Series
URL;VALUE=URI:https://www.pottconservation.com/calendar/awake_in_the_woods_loess_hills_myth_craft_series/2021-11-13/
DTSTAMP:20260421T081523
UID:69e7786bc60ec
END:VEVENT
END:VCALENDAR