BEGIN:VCALENDAR
VERSION:2.0
PRODID:-//hacksw/handcal//NONSGML v1.0//EN
CALSCALE:GREGORIAN
BEGIN:VEVENT
LOCATION:Hitchcock Nature Center\, 27792 Ski Hill Loop\, Honey Creek\, Iowa 51542
DESCRIPTION:Join the Loess Hills Nordic Patrol and learn the fundamentals of map and compass navigation in this hands-on class.
DTSTART:20260418T130000
DTEND:20260418T170000
SUMMARY:Basic Map and Compass
URL;VALUE=URI:https://www.pottconservation.com/calendar/basic_map_and_compass/2026-04-18/
DTSTAMP:20260421T090625
UID:69e78461b521c
END:VEVENT
END:VCALENDAR