BEGIN:VCALENDAR
VERSION:2.0
PRODID:-//hacksw/handcal//NONSGML v1.0//EN
CALSCALE:GREGORIAN
BEGIN:VEVENT
LOCATION:Hitchcock Nature Center\, 27792 Ski Hill Loop\, Honey Creek\, Iowa 51542
DESCRIPTION:New to birding? Here&#039\;s the program for you! Join us on Migratory Bird Day and learn the ins and outs of bird identification\, terminology\, and more.
DTSTART:20220515T073000
DTEND:20220515T093000
SUMMARY:Beginner Birding: With Nic Salick
URL;VALUE=URI:https://www.pottconservation.com/calendar/beginner_birding_with_nic_salick/2022-05-15/
DTSTAMP:20260423T081703
UID:69ea1bcf1bf68
END:VEVENT
END:VCALENDAR