BEGIN:VCALENDAR
VERSION:2.0
PRODID:-//hacksw/handcal//NONSGML v1.0//EN
CALSCALE:GREGORIAN
BEGIN:VEVENT
LOCATION:Hitchcock Nature Center\, 27792 Ski Hill Loop\, Honey Creek\, Iowa 51542
DESCRIPTION:Join us for an all-ages community science event &amp\; learn more about our native plant &amp\; animal communities. 
DTSTART:20210612T090000
DTEND:20210612T120000
SUMMARY:BioBlitz
URL;VALUE=URI:https://www.pottconservation.com/calendar/bioblitz/2021-06-12/
DTSTAMP:20260421T003700
UID:69e70cfc0e9e1
END:VEVENT
END:VCALENDAR