BEGIN:VCALENDAR
VERSION:2.0
PRODID:-//hacksw/handcal//NONSGML v1.0//EN
CALSCALE:GREGORIAN
BEGIN:VEVENT
LOCATION:Botna Bend Park\, 42926 Mahogany Road\, Hancock\, Iowa 51536
DESCRIPTION:
DTSTART:20211106T110000
DTEND:20211106T140000
SUMMARY:Bison Fest at Botna Bend
URL;VALUE=URI:https://www.pottconservation.com/calendar/bison_fest_at_botna_bend/2021-11-06/
DTSTAMP:20260421T081718
UID:69e778de6ec32
END:VEVENT
END:VCALENDAR