BEGIN:VCALENDAR
VERSION:2.0
PRODID:-//hacksw/handcal//NONSGML v1.0//EN
CALSCALE:GREGORIAN
BEGIN:VEVENT
LOCATION:Botna Bend Park\, 42926 Mahogany Road\, Hancock\, Iowa 51536
DESCRIPTION:In honor of National Bison Day\, come visit our bison herd out at Botna Bend Park and learn more about this magnificent species and the conservation efforts that help protect them.
DTSTART:20221105T110000
DTEND:20221105T140000
SUMMARY:Bison Fest at Botna Bend
URL;VALUE=URI:https://www.pottconservation.com/calendar/bison_fest_at_botna_bend/2022-11-05/
DTSTAMP:20260425T070935
UID:69ecaeffeec3c
END:VEVENT
END:VCALENDAR