BEGIN:VCALENDAR
VERSION:2.0
PRODID:-//hacksw/handcal//NONSGML v1.0//EN
CALSCALE:GREGORIAN
BEGIN:VEVENT
LOCATION:Botna Bend Park\, 42926 Mahogany Road\, Hancock\, Iowa 51536
DESCRIPTION:Enjoy the sights &amp\; sounds of fall at Botna Bend Park with this self-guided event.
DTSTART:20201106T063000
DTEND:20201106T223000
SUMMARY:Botna Bend Park Little Tike Hike
URL;VALUE=URI:https://www.pottconservation.com/calendar/botna_bend_park_little_tike_hike/2020-11-06/
DTSTAMP:20260425T175953
UID:69ed47694810f
END:VEVENT
END:VCALENDAR