BEGIN:VCALENDAR
VERSION:2.0
PRODID:-//hacksw/handcal//NONSGML v1.0//EN
CALSCALE:GREGORIAN
BEGIN:VEVENT
LOCATION:Hitchcock Nature Center\, 27792 Ski Hill Loop\, Honey Creek\, Iowa 51542
DESCRIPTION:
DTSTART:20260117T090000
DTEND:20260117T110000
SUMMARY:Breakfast with the Birds
URL;VALUE=URI:https://www.pottconservation.com/calendar/breakfast_with_the_birds/2026-01-17/
DTSTAMP:20260425T224344
UID:69ed89f008737
END:VEVENT
END:VCALENDAR