BEGIN:VCALENDAR
VERSION:2.0
PRODID:-//hacksw/handcal//NONSGML v1.0//EN
CALSCALE:GREGORIAN
BEGIN:VEVENT
LOCATION:DeSoto National Wildlife Refuge\, 1434 316th Lane\, Missouri Valley\, IA 51555
DESCRIPTION:Learn more about bird species at DeSoto National Wildlife Refuge during this informative program\, part of the Building Better Birders program series. 
DTSTART:20211030T090000
DTEND:20211030T110000
SUMMARY:Building Better Birders: Introduction to Waterfowl &amp\; Upland Game Birds of Iowa
URL;VALUE=URI:https://www.pottconservation.com/calendar/building_better_birders_introduction_to_waterfowl_upland_game_birds_of_iowa/2021-10-30/
DTSTAMP:20260421T071511
UID:69e76a4f3bf26
END:VEVENT
END:VCALENDAR