BEGIN:VCALENDAR
VERSION:2.0
PRODID:-//hacksw/handcal//NONSGML v1.0//EN
CALSCALE:GREGORIAN
BEGIN:VEVENT
LOCATION:Botna Bend Park\, 42926 Mahogany Road\, Hancock\, Iowa 51536
DESCRIPTION:Hit the trails at Botna Bend Park &amp\; listen for the familiar sounds of owls\, part of the Building Better Birders program series. 
DTSTART:20210325T200000
DTEND:20210325T210000
SUMMARY:Building Better Birders: Owl Prowl Night Hike
URL;VALUE=URI:https://www.pottconservation.com/calendar/building_better_birders_owl_prowl_night_hike/2021-03-25/
DTSTAMP:20260420T201743
UID:69e6d0379a42a
END:VEVENT
END:VCALENDAR