BEGIN:VCALENDAR
VERSION:2.0
PRODID:-//hacksw/handcal//NONSGML v1.0//EN
CALSCALE:GREGORIAN
BEGIN:VEVENT
LOCATION:Full Fledged Brewing Company\, 40 Arena Way\, Council Bluffs\, IA 51501
DESCRIPTION:Do you like beer? How about butterflies? Then join us at Full Fledged Brewing Company and enjoy delicious local brews while supporting native pollinators and conservation efforts in Pottawattamie County!
DTSTART:20220517T170000
DTEND:20220517T200000
SUMMARY:Butterflies &amp\; Beer
URL;VALUE=URI:https://www.pottconservation.com/calendar/butterflies_beer/2022-05-17/
DTSTAMP:20260423T082408
UID:69ea1d78ccab8
END:VEVENT
END:VCALENDAR