BEGIN:VCALENDAR
VERSION:2.0
PRODID:-//hacksw/handcal//NONSGML v1.0//EN
CALSCALE:GREGORIAN
BEGIN:VEVENT
LOCATION:Hitchcock Nature Center\, 27792 Ski Hill Loop\, Honey Creek\, Iowa 51542
DESCRIPTION:Explore nature &amp\; philosophy during this immersive program perfect for anyone who loves the great outdoors. 
DTSTART:20210717T090000
DTEND:20210717T120000
SUMMARY:Butterfly Basics
URL;VALUE=URI:https://www.pottconservation.com/calendar/butterfly_basics/2021-07-17/
DTSTAMP:20260421T020647
UID:69e7220726713
END:VEVENT
END:VCALENDAR