BEGIN:VCALENDAR
VERSION:2.0
PRODID:-//hacksw/handcal//NONSGML v1.0//EN
CALSCALE:GREGORIAN
BEGIN:VEVENT
LOCATION:Hitchcock Nature Center\, 27792 Ski Hill Loop\, Honey Creek\, Iowa 51542
DESCRIPTION:Explore nature and philosophy during this immersive program inspired by the great conservationist Aldo Leopold. Perfect for anyone who is looking to build their appreciation for the natural world.
DTSTART:20240713T090000
DTEND:20240713T120000
SUMMARY:Butterfly Basics + Pond Study | A Land Ethic Workshop
URL;VALUE=URI:https://www.pottconservation.com/calendar/butterfly_basics_a_land_ethic_workshop/2024-07-13/
DTSTAMP:20260420T054854
UID:69e60496a3ed2
END:VEVENT
END:VCALENDAR