BEGIN:VCALENDAR
VERSION:2.0
PRODID:-//hacksw/handcal//NONSGML v1.0//EN
CALSCALE:GREGORIAN
BEGIN:VEVENT
LOCATION:Crescent Hill at Hitchcock (Previously Mt. Crescent Ski Area)\, 17026 Snowhill Ln\, Honey Creek\, Iowa 51542
DESCRIPTION:Join us at Crescent Hill and learn about seasonal job opportunities for the upcoming ski season!
DTSTART:20251004T090000
DTEND:20251004T120000
SUMMARY:Crescent Hill Job Fair
URL;VALUE=URI:https://www.pottconservation.com/calendar/crescent_hill_job_fair/2025-10-04/
DTSTAMP:20260425T175825
UID:69ed47110b685
END:VEVENT
END:VCALENDAR