BEGIN:VCALENDAR
VERSION:2.0
PRODID:-//hacksw/handcal//NONSGML v1.0//EN
CALSCALE:GREGORIAN
BEGIN:VEVENT
LOCATION:Hitchcock Nature Center\, 27792 Ski Hill Loop\, Honey Creek\, Iowa 51542
DESCRIPTION:Celebrate Earth Day with Pottawattamie Conservation and join our park cleanup event at Hitchcock Nature Center.
DTSTART:20240420T090000
DTEND:20240420T130000
SUMMARY:Litter Busters Park Cleanup
URL;VALUE=URI:https://www.pottconservation.com/calendar/dump_busters_park_cleanup/2024-04-20/
DTSTAMP:20260424T114354
UID:69eb9dca1f324
END:VEVENT
END:VCALENDAR