BEGIN:VCALENDAR
VERSION:2.0
PRODID:-//hacksw/handcal//NONSGML v1.0//EN
CALSCALE:GREGORIAN
BEGIN:VEVENT
LOCATION:Hitchcock Nature Center\, 27792 Ski Hill Loop\, Honey Creek\, Iowa 51542
DESCRIPTION:Get to know spring flowers and herbs on a deeper level including which ones are edible\, their medicinal properties\, and interesting folklore.
DTSTART:20230429T140000
DTEND:20230429T163000
SUMMARY: Spring Medicinal &amp\; Edible Plant Walk | With Dustin Clayton and special guest\, Shea Harkness of Curious Roots Herb Farm
URL;VALUE=URI:https://www.pottconservation.com/calendar/early_spring_medicinal_edible_plant_walk_with_dustin_clayton/2023-04-29/
DTSTAMP:20260424T012855
UID:69eb0da7bd38c
END:VEVENT
END:VCALENDAR