BEGIN:VCALENDAR
VERSION:2.0
PRODID:-//hacksw/handcal//NONSGML v1.0//EN
CALSCALE:GREGORIAN
BEGIN:VEVENT
LOCATION:Narrows River Park\, 2500 North 25th Street\, Council Bluffs\, Iowa 51501
DESCRIPTION:We provide the guidance\, bows\, arrows\, and targets\, YOU provide the energy and enthusiasm!
DTSTART:20240531T183000
DTEND:20240531T200000
SUMMARY:Family Learn Archery
URL;VALUE=URI:https://www.pottconservation.com/calendar/family_learn_archery/2024-05-31/
DTSTAMP:20260424T144131
UID:69ebc76b22534
END:VEVENT
END:VCALENDAR