BEGIN:VCALENDAR
VERSION:2.0
PRODID:-//hacksw/handcal//NONSGML v1.0//EN
CALSCALE:GREGORIAN
BEGIN:VEVENT
LOCATION:Hitchcock Nature Center\, 27792 Ski Hill Loop\, Honey Creek\, Iowa 51542
DESCRIPTION:
DTSTART:20250920T140000
DTEND:20250920T153000
SUMMARY:Family Wild Edible Walk
URL;VALUE=URI:https://www.pottconservation.com/calendar/family_wild_edible_walk/2025-09-20/
DTSTAMP:20260425T165037
UID:69ed372d73dc4
END:VEVENT
END:VCALENDAR