BEGIN:VCALENDAR
VERSION:2.0
PRODID:-//hacksw/handcal//NONSGML v1.0//EN
CALSCALE:GREGORIAN
BEGIN:VEVENT
LOCATION:Council Bluffs Public Library\, 400 Willow Avenue\, Council Bluffs\, IA 51503
DESCRIPTION:The Missouri River is one of the most important waterways in North America. Learn more about its importance during our 2021 Speaker Series. 
DTSTART:20210408T190000
DTEND:20210408T200000
SUMMARY:Flood Plain: A Clear View of Life in the Big Muddy
URL;VALUE=URI:https://www.pottconservation.com/calendar/flood_plain_a_clear_view_of_life_in_the_big_muddy/2021-04-08/
DTSTAMP:20260420T215151
UID:69e6e647becd5
END:VEVENT
END:VCALENDAR