BEGIN:VCALENDAR
VERSION:2.0
PRODID:-//hacksw/handcal//NONSGML v1.0//EN
CALSCALE:GREGORIAN
BEGIN:VEVENT
LOCATION:All Pottawattamie Conservation Parks\, \, \,  
DESCRIPTION:Head to a Pottawattamie County park and explore the wonders of the great outdoors\, no park entry fee required.
DTSTART:20240420T060000
DTEND:20240420T223000
SUMMARY:Free Day at the Parks!
URL;VALUE=URI:https://www.pottconservation.com/calendar/free_day_at_the_parks/2024-04-20/
DTSTAMP:20260424T130957
UID:69ebb1f5b4f54
END:VEVENT
END:VCALENDAR