BEGIN:VCALENDAR
VERSION:2.0
PRODID:-//hacksw/handcal//NONSGML v1.0//EN
CALSCALE:GREGORIAN
BEGIN:VEVENT
LOCATION:Hitchcock Nature Center\, 27792 Ski Hill Loop\, Honey Creek\, Iowa 51542
DESCRIPTION:Explore nature &amp\; philosophy during this immersive program perfect for anyone who loves the great outdoors. 
DTSTART:20210619T090000
DTEND:20210619T120000
SUMMARY:Freshwater Aquatic Studies
URL;VALUE=URI:https://www.pottconservation.com/calendar/freshwater_aquatic_studies/2021-06-19/
DTSTAMP:20260421T003930
UID:69e70d9294891
END:VEVENT
END:VCALENDAR