BEGIN:VCALENDAR
VERSION:2.0
PRODID:-//hacksw/handcal//NONSGML v1.0//EN
CALSCALE:GREGORIAN
BEGIN:VEVENT
LOCATION:Hitchcock Nature Center\, 27792 Ski Hill Loop\, Honey Creek\, Iowa 51542
DESCRIPTION:Join us for this Full Moon Hike\, explore the night with your senses and learn what it takes for the creatures of the night to survive.
DTSTART:20221108T190000
DTEND:20221108T200000
SUMMARY:Full Moon Hike
URL;VALUE=URI:https://www.pottconservation.com/calendar/full_moon_hike/2022-11-08/
DTSTAMP:20260425T072134
UID:69ecb1ce59c9f
END:VEVENT
END:VCALENDAR