BEGIN:VCALENDAR
VERSION:2.0
PRODID:-//hacksw/handcal//NONSGML v1.0//EN
CALSCALE:GREGORIAN
BEGIN:VEVENT
LOCATION:Hitchcock Nature Center\, 27792 Ski Hill Loop\, Honey Creek\, Iowa 51542
DESCRIPTION:Join us for a hike under the full moon! Learn moon trivia\, lunar lore\, and more while exploring the park after dark.
DTSTART:20221207T190000
DTEND:20221207T200000
SUMMARY:Full Moon Hike
URL;VALUE=URI:https://www.pottconservation.com/calendar/full_moon_hike/2022-12-07/
DTSTAMP:20260425T085538
UID:69ecc7da70174
END:VEVENT
END:VCALENDAR