BEGIN:VCALENDAR
VERSION:2.0
PRODID:-//hacksw/handcal//NONSGML v1.0//EN
CALSCALE:GREGORIAN
BEGIN:VEVENT
LOCATION:Council Bluffs Public Library\, 400 Willow Avenue\, Council Bluffs\, IA 51503
DESCRIPTION:Join this virtual program to hear Benjamin Vogt discuss gardening in layers with native plants.
DTSTART:20210513T190000
DTEND:20210513T200000
SUMMARY:Fundamentals of Garden Layers with Benjamin Vogt
URL;VALUE=URI:https://www.pottconservation.com/calendar/fundamentals_of_garden_layers_with_benjamin_vogt/2021-05-13/
DTSTAMP:20260420T232614
UID:69e6fc66cd6ab
END:VEVENT
END:VCALENDAR