BEGIN:VCALENDAR
VERSION:2.0
PRODID:-//hacksw/handcal//NONSGML v1.0//EN
CALSCALE:GREGORIAN
BEGIN:VEVENT
LOCATION:Hitchcock Nature Center\, 27792 Ski Hill Loop\, Honey Creek\, Iowa 51542
DESCRIPTION:Learn more about designing &amp\; maintaining diverse native plantings in this hands-on program. 
DTSTART:20210412T190000
DTEND:20210412T210000
SUMMARY:Gardening for Diversity - A Hands-On Workshop
URL;VALUE=URI:https://www.pottconservation.com/calendar/gardening_for_diversity_a_handson_workshop/2021-04-12/
DTSTAMP:20260420T213445
UID:69e6e2455b267
END:VEVENT
END:VCALENDAR