BEGIN:VCALENDAR
VERSION:2.0
PRODID:-//hacksw/handcal//NONSGML v1.0//EN
CALSCALE:GREGORIAN
BEGIN:VEVENT
LOCATION:Narrows River Park\, 2500 North 25th Street\, Council Bluffs\, Iowa 51501
DESCRIPTION:Learn more about designing &amp\; maintaining diverse native plantings in this hands-on program. 
DTSTART:20210426T190000
DTEND:20210426T210000
SUMMARY:Gardening for Diversity - A Hands-On Workshop
URL;VALUE=URI:https://www.pottconservation.com/calendar/gardening_for_diversity_a_handson_workshop/2021-04-26/
DTSTAMP:20260420T213917
UID:69e6e3556decf
END:VEVENT
END:VCALENDAR