BEGIN:VCALENDAR
VERSION:2.0
PRODID:-//hacksw/handcal//NONSGML v1.0//EN
CALSCALE:GREGORIAN
BEGIN:VEVENT
LOCATION:Narrows River Park\, 2500 North 25th Street\, Council Bluffs\, Iowa 51501
DESCRIPTION:Learn more about designing &amp\; maintaining diverse native plantings in this hands-on program. 
DTSTART:20210712T180000
DTEND:20210712T210000
SUMMARY:Gardening for Diversity - A Hands-On Workshop
URL;VALUE=URI:https://www.pottconservation.com/calendar/gardening_for_diversity_a_handson_workshop/2021-07-12/
DTSTAMP:20260421T021356
UID:69e723b4d1b4e
END:VEVENT
END:VCALENDAR